BEGIN:VCALENDAR
VERSION:2.0
PRODID:-//wp-events-plugin.com//7.2.3//EN
TZID:America/New_York
X-WR-TIMEZONE:America/New_York
BEGIN:VEVENT
UID:1132@syracuserpchurch.org
DTSTART;TZID=America/New_York:20260116T000000
DTEND;TZID=America/New_York:20260118T000000
DTSTAMP:20251126T082321Z
URL:https://www.syracuserpchurch.org/events/winter-youth-retreat-2/
SUMMARY:Winter Youth Retreat
DESCRIPTION:For grades 7-12\n\nTopic: Christian Contentment\n\nSpeaker: Pas
 tor Ryan Somerville or the Rochester RPC\n\nCost: $50 if registration is r
 eceived by 1/10/26\n\nRegister here!
LOCATION:Christ Church\, 8470 New Floyd Rd.\, Rome\, NY\, 13440\, United St
 ates
X-APPLE-STRUCTURED-LOCATION;VALUE=URI;X-ADDRESS=8470 New Floyd Rd.\, Rome\,
  NY\, 13440\, United States;X-APPLE-RADIUS=100;X-TITLE=Christ Church:geo:0
 ,0
END:VEVENT
BEGIN:VTIMEZONE
TZID:America/New_York
X-LIC-LOCATION:America/New_York
BEGIN:STANDARD
DTSTART:20251102T010000
TZOFFSETFROM:-0400
TZOFFSETTO:-0500
TZNAME:EST
END:STANDARD
END:VTIMEZONE
END:VCALENDAR