BEGIN:VCALENDAR
VERSION:2.0
PRODID:-//wp-events-plugin.com//7.2.3//EN
TZID:America/New_York
X-WR-TIMEZONE:America/New_York
BEGIN:VEVENT
UID:1130@syracuserpchurch.org
DTSTART;TZID=America/New_York:20251206T093000
DTEND;TZID=America/New_York:20251206T123000
DTSTAMP:20251126T073652Z
URL:https://www.syracuserpchurch.org/events/wielding-iron-mens-breakfast-3
 /
SUMMARY:Wielding Iron: Men's Breakfast
DESCRIPTION:Calling all men of all ages! You are welcome to participate in 
 a delicious breakfast and partake in the nourishment of your souls by divi
 ng deeper into God's Word. Come join us at the church at 9:30 AM to build 
 each other up. RSVP by November 30th to Mr. Dugan!
LOCATION:Syracuse RPC\, 2517 South Salina St. \, Syracuse\, New York\, 1320
 5\, United States
GEO:43.0224524;-76.14380360000001
X-APPLE-STRUCTURED-LOCATION;VALUE=URI;X-ADDRESS=2517 South Salina St. \, Sy
 racuse\, New York\, 13205\, United States;X-APPLE-RADIUS=100;X-TITLE=Syrac
 use RPC:geo:43.0224524,-76.14380360000001
END:VEVENT
BEGIN:VTIMEZONE
TZID:America/New_York
X-LIC-LOCATION:America/New_York
BEGIN:STANDARD
DTSTART:20251102T010000
TZOFFSETFROM:-0400
TZOFFSETTO:-0500
TZNAME:EST
END:STANDARD
END:VTIMEZONE
END:VCALENDAR