BEGIN:VCALENDAR
VERSION:2.0
PRODID:-//wp-events-plugin.com//7.2.3//EN
TZID:America/New_York
X-WR-TIMEZONE:America/New_York
BEGIN:VEVENT
UID:1137@syracuserpchurch.org
DTSTART;TZID=America/New_York:20251213T130000
DTEND;TZID=America/New_York:20251213T143000
DTSTAMP:20251210T204555Z
URL:https://www.syracuserpchurch.org/events/susan-charltons-funeral-servic
 e/
SUMMARY:Susan Charlton’s Funeral Service
DESCRIPTION:A celebration of life for our dear sister\, Susan Charlton.\n\n
 Susan’s obituary can be accessed here.
LOCATION:Faith Heritage School\, 3740 Midland Ave.\, Syracuse\, NY\, 13205\
 , United States
X-APPLE-STRUCTURED-LOCATION;VALUE=URI;X-ADDRESS=3740 Midland Ave.\, Syracus
 e\, NY\, 13205\, United States;X-APPLE-RADIUS=100;X-TITLE=Faith Heritage S
 chool:geo:0,0
END:VEVENT
BEGIN:VTIMEZONE
TZID:America/New_York
X-LIC-LOCATION:America/New_York
BEGIN:STANDARD
DTSTART:20251102T010000
TZOFFSETFROM:-0400
TZOFFSETTO:-0500
TZNAME:EST
END:STANDARD
END:VTIMEZONE
END:VCALENDAR